BEGIN:VCALENDAR
VERSION:2.0
PRODID:-//Danbury Animal Welfare Society - ECPv6.15.14//NONSGML v1.0//EN
CALSCALE:GREGORIAN
METHOD:PUBLISH
X-WR-CALNAME:Danbury Animal Welfare Society
X-ORIGINAL-URL:https://daws.org
X-WR-CALDESC:Events for Danbury Animal Welfare Society
REFRESH-INTERVAL;VALUE=DURATION:PT1H
X-Robots-Tag:noindex
X-PUBLISHED-TTL:PT1H
BEGIN:VTIMEZONE
TZID:America/New_York
BEGIN:DAYLIGHT
TZOFFSETFROM:-0500
TZOFFSETTO:-0400
TZNAME:EDT
DTSTART:20240310T070000
END:DAYLIGHT
BEGIN:STANDARD
TZOFFSETFROM:-0400
TZOFFSETTO:-0500
TZNAME:EST
DTSTART:20241103T060000
END:STANDARD
BEGIN:DAYLIGHT
TZOFFSETFROM:-0500
TZOFFSETTO:-0400
TZNAME:EDT
DTSTART:20250309T070000
END:DAYLIGHT
BEGIN:STANDARD
TZOFFSETFROM:-0400
TZOFFSETTO:-0500
TZNAME:EST
DTSTART:20251102T060000
END:STANDARD
BEGIN:DAYLIGHT
TZOFFSETFROM:-0500
TZOFFSETTO:-0400
TZNAME:EDT
DTSTART:20260308T070000
END:DAYLIGHT
BEGIN:STANDARD
TZOFFSETFROM:-0400
TZOFFSETTO:-0500
TZNAME:EST
DTSTART:20261101T060000
END:STANDARD
END:VTIMEZONE
BEGIN:VEVENT
DTSTART;TZID=America/New_York:20250412T110000
DTEND;TZID=America/New_York:20250412T130000
DTSTAMP:20260421T140441
CREATED:20250307T222323Z
LAST-MODIFIED:20250307T222323Z
UID:11731-1744455600-1744462800@daws.org
SUMMARY:VW Adoption Event to Events
DESCRIPTION:Join us Saturday\, April 12th from 11am-1pm for a DAWS Adoption Event at Volkswagen Danbury. Join us for raffle prizes and even some doggy treats from Woof Gang Bakery Danbury! Fill out your application today so you can be preapproved and leave with your new best friend!
URL:https://daws.org/event/vw-adoption-event-to-events/
LOCATION:Volkswagen Danbury\, 29 Sugar Hollow Rd\, CT\, 06810\, United States
CATEGORIES:Adoption Event
ATTACH;FMTTYPE=image/jpeg:https://daws.org/wp-content/uploads/2025/03/Audi-VW-Adoption-Event-4.12-Revised-1.jpg
ORGANIZER;CN="Danbury Animal Welfare Society":MAILTO:daws@daws.org
END:VEVENT
END:VCALENDAR