BEGIN:VCALENDAR
VERSION:2.0
PRODID:-//Danbury Animal Welfare Society - ECPv6.15.14//NONSGML v1.0//EN
CALSCALE:GREGORIAN
METHOD:PUBLISH
X-ORIGINAL-URL:https://daws.org
X-WR-CALDESC:Events for Danbury Animal Welfare Society
REFRESH-INTERVAL;VALUE=DURATION:PT1H
X-Robots-Tag:noindex
X-PUBLISHED-TTL:PT1H
BEGIN:VTIMEZONE
TZID:America/New_York
BEGIN:DAYLIGHT
TZOFFSETFROM:-0500
TZOFFSETTO:-0400
TZNAME:EDT
DTSTART:20180311T070000
END:DAYLIGHT
BEGIN:STANDARD
TZOFFSETFROM:-0400
TZOFFSETTO:-0500
TZNAME:EST
DTSTART:20181104T060000
END:STANDARD
BEGIN:DAYLIGHT
TZOFFSETFROM:-0500
TZOFFSETTO:-0400
TZNAME:EDT
DTSTART:20190310T070000
END:DAYLIGHT
BEGIN:STANDARD
TZOFFSETFROM:-0400
TZOFFSETTO:-0500
TZNAME:EST
DTSTART:20191103T060000
END:STANDARD
BEGIN:DAYLIGHT
TZOFFSETFROM:-0500
TZOFFSETTO:-0400
TZNAME:EDT
DTSTART:20200308T070000
END:DAYLIGHT
BEGIN:STANDARD
TZOFFSETFROM:-0400
TZOFFSETTO:-0500
TZNAME:EST
DTSTART:20201101T060000
END:STANDARD
END:VTIMEZONE
BEGIN:VEVENT
DTSTART;TZID=America/New_York:20191005T140000
DTEND;TZID=America/New_York:20191006T160000
DTSTAMP:20260424T101301
CREATED:20191004T214833Z
LAST-MODIFIED:20191004T214833Z
UID:7154-1570284000-1570377600@daws.org
SUMMARY:Open House 2PM-4PM
DESCRIPTION:Open House 2PM-4PM
URL:https://daws.org/event/open-house-2pm-4pm/
LOCATION:Danbury Animal Welfare Society\, 147 Grassy Plain St.\, Bethel\, CT\, 06801\, United States
CATEGORIES:Meet and Greet
ORGANIZER;CN="Danbury Animal Welfare Society":MAILTO:daws@daws.org
END:VEVENT
BEGIN:VEVENT
DTSTART;TZID=America/New_York:20191007T180000
DTEND;TZID=America/New_York:20191007T200000
DTSTAMP:20260424T101301
CREATED:20191004T211924Z
LAST-MODIFIED:20191004T211924Z
UID:7133-1570471200-1570478400@daws.org
SUMMARY:Open House 6PM-8PM
DESCRIPTION:Open House 6PM-8PM
URL:https://daws.org/event/open-house-6pm-8pm/
LOCATION:Danbury Animal Welfare Society\, 147 Grassy Plain St.\, Bethel\, CT\, 06801\, United States
CATEGORIES:Meet and Greet
ORGANIZER;CN="Danbury Animal Welfare Society":MAILTO:daws@daws.org
END:VEVENT
BEGIN:VEVENT
DTSTART;TZID=America/New_York:20191008T180000
DTEND;TZID=America/New_York:20191008T200000
DTSTAMP:20260424T101301
CREATED:20191023T180511Z
LAST-MODIFIED:20191023T180511Z
UID:7256-1570557600-1570564800@daws.org
SUMMARY:Open House for Cats only 6PM-8PM - No Dog Open House
DESCRIPTION:Open House for Cats only 6PM-8PM – No Dog Open House
URL:https://daws.org/event/open-house-for-cats-only-6pm-8pm-no-dog-open-house-4/
LOCATION:Danbury Animal Welfare Society\, 147 Grassy Plain St.\, Bethel\, CT\, 06801\, United States
CATEGORIES:Meet and Greet
ORGANIZER;CN="Danbury Animal Welfare Society":MAILTO:daws@daws.org
END:VEVENT
BEGIN:VEVENT
DTSTART;TZID=America/New_York:20191009T180000
DTEND;TZID=America/New_York:20191011T200000
DTSTAMP:20260424T101301
CREATED:20191004T212454Z
LAST-MODIFIED:20191004T213632Z
UID:7139-1570644000-1570824000@daws.org
SUMMARY:Open House 6PM-8PM
DESCRIPTION:Open House 6PM-8PM
URL:https://daws.org/event/open-house-6pm-8pm-3/
LOCATION:Danbury Animal Welfare Society\, 147 Grassy Plain St.\, Bethel\, CT\, 06801\, United States
CATEGORIES:Meet and Greet
ORGANIZER;CN="Danbury Animal Welfare Society":MAILTO:daws@daws.org
END:VEVENT
BEGIN:VEVENT
DTSTART;TZID=America/New_York:20191012T020000
DTEND;TZID=America/New_York:20191013T160000
DTSTAMP:20260424T101301
CREATED:20191004T215006Z
LAST-MODIFIED:20191004T215006Z
UID:7157-1570845600-1570982400@daws.org
SUMMARY:Open House 2PM-4PM
DESCRIPTION:Open House 2PM-4PM
URL:https://daws.org/event/open-house-2pm-4pm-2/
LOCATION:Danbury Animal Welfare Society\, 147 Grassy Plain St.\, Bethel\, CT\, 06801\, United States
CATEGORIES:Meet and Greet
ORGANIZER;CN="Danbury Animal Welfare Society":MAILTO:daws@daws.org
END:VEVENT
BEGIN:VEVENT
DTSTART;TZID=America/New_York:20191014T180000
DTEND;TZID=America/New_York:20191018T200000
DTSTAMP:20260424T101301
CREATED:20191004T213817Z
LAST-MODIFIED:20191004T213817Z
UID:7145-1571076000-1571428800@daws.org
SUMMARY:Open House 6PM-8PM
DESCRIPTION:Open House 6PM-8PM
URL:https://daws.org/event/open-house-6pm-8pm-4/
LOCATION:Danbury Animal Welfare Society\, 147 Grassy Plain St.\, Bethel\, CT\, 06801\, United States
CATEGORIES:Meet and Greet
ORGANIZER;CN="Danbury Animal Welfare Society":MAILTO:daws@daws.org
END:VEVENT
BEGIN:VEVENT
DTSTART;TZID=America/New_York:20191015T180000
DTEND;TZID=America/New_York:20191015T200000
DTSTAMP:20260424T101301
CREATED:20191023T175816Z
LAST-MODIFIED:20191023T175816Z
UID:7253-1571162400-1571169600@daws.org
SUMMARY:Open House for Cats only 6PM-8PM - No Dog Open House
DESCRIPTION:Open House for Cats only 6PM-8PM – No Dog Open House
URL:https://daws.org/event/open-house-for-cats-only-6pm-8pm-no-dog-open-house-3/
LOCATION:Danbury Animal Welfare Society\, 147 Grassy Plain St.\, Bethel\, CT\, 06801\, United States
CATEGORIES:Meet and Greet
ORGANIZER;CN="Danbury Animal Welfare Society":MAILTO:daws@daws.org
END:VEVENT
BEGIN:VEVENT
DTSTART;TZID=America/New_York:20191019T020000
DTEND;TZID=America/New_York:20191020T160000
DTSTAMP:20260424T101301
CREATED:20191004T215135Z
LAST-MODIFIED:20191004T215135Z
UID:7160-1571450400-1571587200@daws.org
SUMMARY:Open House 2PM-4PM
DESCRIPTION:Open House 2PM-4PM
URL:https://daws.org/event/open-house-2pm-4pm-3/
LOCATION:Danbury Animal Welfare Society\, 147 Grassy Plain St.\, Bethel\, CT\, 06801\, United States
CATEGORIES:Meet and Greet
ORGANIZER;CN="Danbury Animal Welfare Society":MAILTO:daws@daws.org
END:VEVENT
BEGIN:VEVENT
DTSTART;TZID=America/New_York:20191021T080000
DTEND;TZID=America/New_York:20191025T170000
DTSTAMP:20260424T101301
CREATED:20191004T214025Z
LAST-MODIFIED:20191023T174621Z
UID:7148-1571644800-1572022800@daws.org
SUMMARY:Open House 6PM-8PM
DESCRIPTION:Open House  6PM-8PM
URL:https://daws.org/event/open-house-6pm-8pm-5/
LOCATION:Danbury Animal Welfare Society\, 147 Grassy Plain St.\, Bethel\, CT\, 06801\, United States
CATEGORIES:Meet and Greet
ORGANIZER;CN="Danbury Animal Welfare Society":MAILTO:daws@daws.org
END:VEVENT
BEGIN:VEVENT
DTSTART;TZID=America/New_York:20191022T180000
DTEND;TZID=America/New_York:20191022T200000
DTSTAMP:20260424T101301
CREATED:20191023T174934Z
LAST-MODIFIED:20191023T174934Z
UID:7247-1571767200-1571774400@daws.org
SUMMARY:Open House for Cats only 6PM-8PM - No Dog Open House
DESCRIPTION:Open House for Cats only 6PM-8PM – No Dog Open House
URL:https://daws.org/event/open-house-for-cats-only-6pm-8pm-no-dog-open-house/
LOCATION:Danbury Animal Welfare Society\, 147 Grassy Plain St.\, Bethel\, CT\, 06801\, United States
CATEGORIES:Meet and Greet
ORGANIZER;CN="Danbury Animal Welfare Society":MAILTO:daws@daws.org
END:VEVENT
BEGIN:VEVENT
DTSTART;TZID=America/New_York:20191026T140000
DTEND;TZID=America/New_York:20191027T160000
DTSTAMP:20260424T101301
CREATED:20191004T220244Z
LAST-MODIFIED:20191004T220244Z
UID:7174-1572098400-1572192000@daws.org
SUMMARY:Open House 2PM-4PM
DESCRIPTION:Open House 2PM-4PM
URL:https://daws.org/event/open-house-2pm-4pm-4/
LOCATION:Danbury Animal Welfare Society\, 147 Grassy Plain St.\, Bethel\, CT\, 06801\, United States
CATEGORIES:Meet and Greet
ORGANIZER;CN="Danbury Animal Welfare Society":MAILTO:daws@daws.org
END:VEVENT
BEGIN:VEVENT
DTSTART;TZID=America/New_York:20191028T180000
DTEND;TZID=America/New_York:20191101T200000
DTSTAMP:20260424T101301
CREATED:20191004T214150Z
LAST-MODIFIED:20191004T214150Z
UID:7151-1572285600-1572638400@daws.org
SUMMARY:Open House 6PM-8PM
DESCRIPTION:Open House 6PM-8PM
URL:https://daws.org/event/open-house-6pm-8pm-6/
LOCATION:Danbury Animal Welfare Society\, 147 Grassy Plain St.\, Bethel\, CT\, 06801\, United States
CATEGORIES:Meet and Greet
ORGANIZER;CN="Danbury Animal Welfare Society":MAILTO:daws@daws.org
END:VEVENT
BEGIN:VEVENT
DTSTART;TZID=America/New_York:20191029T180000
DTEND;TZID=America/New_York:20191029T200000
DTSTAMP:20260424T101301
CREATED:20191023T175141Z
LAST-MODIFIED:20191023T175141Z
UID:7250-1572372000-1572379200@daws.org
SUMMARY:Open House for Cats only 6PM-8PM - No Dog Open House
DESCRIPTION:Open House for Cats only 6PM-8PM – No Dog Open House
URL:https://daws.org/event/open-house-for-cats-only-6pm-8pm-no-dog-open-house-2/
LOCATION:Danbury Animal Welfare Society\, 147 Grassy Plain St.\, Bethel\, CT\, 06801\, United States
CATEGORIES:Meet and Greet
ORGANIZER;CN="Danbury Animal Welfare Society":MAILTO:daws@daws.org
END:VEVENT
END:VCALENDAR