BEGIN:VCALENDAR
VERSION:2.0
PRODID:-//Danbury Animal Welfare Society - ECPv6.15.14//NONSGML v1.0//EN
CALSCALE:GREGORIAN
METHOD:PUBLISH
X-ORIGINAL-URL:https://daws.org
X-WR-CALDESC:Events for Danbury Animal Welfare Society
REFRESH-INTERVAL;VALUE=DURATION:PT1H
X-Robots-Tag:noindex
X-PUBLISHED-TTL:PT1H
BEGIN:VTIMEZONE
TZID:America/New_York
BEGIN:DAYLIGHT
TZOFFSETFROM:-0500
TZOFFSETTO:-0400
TZNAME:EDT
DTSTART:20190310T070000
END:DAYLIGHT
BEGIN:STANDARD
TZOFFSETFROM:-0400
TZOFFSETTO:-0500
TZNAME:EST
DTSTART:20191103T060000
END:STANDARD
BEGIN:DAYLIGHT
TZOFFSETFROM:-0500
TZOFFSETTO:-0400
TZNAME:EDT
DTSTART:20200308T070000
END:DAYLIGHT
BEGIN:STANDARD
TZOFFSETFROM:-0400
TZOFFSETTO:-0500
TZNAME:EST
DTSTART:20201101T060000
END:STANDARD
BEGIN:DAYLIGHT
TZOFFSETFROM:-0500
TZOFFSETTO:-0400
TZNAME:EDT
DTSTART:20210314T070000
END:DAYLIGHT
BEGIN:STANDARD
TZOFFSETFROM:-0400
TZOFFSETTO:-0500
TZNAME:EST
DTSTART:20211107T060000
END:STANDARD
END:VTIMEZONE
BEGIN:VEVENT
DTSTART;TZID=America/New_York:20200926T170000
DTEND;TZID=America/New_York:20200926T233000
DTSTAMP:20260419T094846
CREATED:20200304T033847Z
LAST-MODIFIED:20200304T033847Z
UID:7817-1601139600-1601163000@daws.org
SUMMARY:Roaring 20s PAWS to Celebrate annual Gala
DESCRIPTION:
URL:https://daws.org/event/roaring-20s-paws-to-celebrate-annual-gala/
LOCATION:The Amber Room Colonnade\, 1 Stacey Road\, Danbury\, CT\, 06811\, United States
CATEGORIES:Fundraiser
END:VEVENT
END:VCALENDAR