BEGIN:VCALENDAR
VERSION:2.0
PRODID:-//Danbury Animal Welfare Society - ECPv6.15.14//NONSGML v1.0//EN
CALSCALE:GREGORIAN
METHOD:PUBLISH
X-WR-CALNAME:Danbury Animal Welfare Society
X-ORIGINAL-URL:https://daws.org
X-WR-CALDESC:Events for Danbury Animal Welfare Society
REFRESH-INTERVAL;VALUE=DURATION:PT1H
X-Robots-Tag:noindex
X-PUBLISHED-TTL:PT1H
BEGIN:VTIMEZONE
TZID:America/New_York
BEGIN:DAYLIGHT
TZOFFSETFROM:-0500
TZOFFSETTO:-0400
TZNAME:EDT
DTSTART:20220313T070000
END:DAYLIGHT
BEGIN:STANDARD
TZOFFSETFROM:-0400
TZOFFSETTO:-0500
TZNAME:EST
DTSTART:20221106T060000
END:STANDARD
BEGIN:DAYLIGHT
TZOFFSETFROM:-0500
TZOFFSETTO:-0400
TZNAME:EDT
DTSTART:20230312T070000
END:DAYLIGHT
BEGIN:STANDARD
TZOFFSETFROM:-0400
TZOFFSETTO:-0500
TZNAME:EST
DTSTART:20231105T060000
END:STANDARD
BEGIN:DAYLIGHT
TZOFFSETFROM:-0500
TZOFFSETTO:-0400
TZNAME:EDT
DTSTART:20240310T070000
END:DAYLIGHT
BEGIN:STANDARD
TZOFFSETFROM:-0400
TZOFFSETTO:-0500
TZNAME:EST
DTSTART:20241103T060000
END:STANDARD
END:VTIMEZONE
BEGIN:VEVENT
DTSTART;TZID=America/New_York:20231021T180000
DTEND;TZID=America/New_York:20231021T230000
DTSTAMP:20260420T013740
CREATED:20230823T040612Z
LAST-MODIFIED:20230921T222858Z
UID:8101-1697911200-1697929200@daws.org
SUMMARY:Making A Difference Gala
DESCRIPTION:Danbury Animal Welfare Society\nAngela Siegele\ndevelopment@daws.org\nFOR IMMEDIATE RELEASE\nMAKING A DIFFERENCE GALA – MARK YOUR CALENDAR!\nDANBURY\, CT – The Danbury Animal Welfare Society (DAWS) will be holding our biggest fundraising event of the year\, Making a Difference Gala\, starting at 6pm on October 21st at the Amber Room Colonnade in Danbury\, CT. \nTo celebrate our 49th year\, please join us as we aim to raise $185\,000 for the thousands of animals we care for each year and celebrate our newly renovated shelter\, opening soon! The renovation would not have been possible without our Gala honoree\, Tary Tarlton of Kenosia Development. This is guaranteed to be a great night with our host\, Rich Minor of 98Q\, a live and silent auction\, music by The Bill’s Toupee Band\, dancing\, and fun that will not want to be missed. \nIndividual tickets are available for $195 and $1\,750 per litter of 10. Sponsorship opportunities are available as well. \nDanbury Animal Welfare Society\, Inc. is a non-profit organization dedicated to improving the lives of animals in our community and beyond since 1974. We promote responsible pet guardianship and the humane treatment of animals\, and work toward ending animal overpopulation through education and a variety of programs. We take pride in the work we do – working to keep homeless pets safe\, happy\, and sheltered. \nLearn more and get tickets at dawsgala.givesmart.com or reach out to Angela at development@daws.org with any questions.
URL:https://daws.org/event/making-a-difference-gala/
LOCATION:The Amber Room Colonnade\, 1 Stacey Road\, Danbury\, CT\, 06811\, United States
CATEGORIES:Fundraiser
ORGANIZER;CN="Danbury Animal Welfare Society":MAILTO:daws@daws.org
END:VEVENT
END:VCALENDAR